BEGIN:VCALENDAR
VERSION:2.0
PRODID:-//TUNGSTEN Training - ECPv4.6.26//NONSGML v1.0//EN
CALSCALE:GREGORIAN
METHOD:PUBLISH
X-WR-CALNAME:TUNGSTEN Training
X-ORIGINAL-URL:https://tungsten-training.com
X-WR-CALDESC:Events for TUNGSTEN Training
BEGIN:VEVENT
DTSTART;TZID=America/Toronto:20181108T100000
DTEND;TZID=America/Toronto:20181108T143000
DTSTAMP:20260425T180221
CREATED:20181030T172553Z
LAST-MODIFIED:20181124T150004Z
UID:1296-1541671200-1541687400@tungsten-training.com
SUMMARY:Aging and Wellbeing: Shaping New Technologies to Support Seniors with Cognitive Impairment
DESCRIPTION:PCI\, carers\, technology developers\, clinicians and other stake holders will come together to try new technologies to support people with dementia. Needs and requirements in terms of emerging technologies and how these technologies could be accessed by people with dementia\, will be discussed. \n\n\n	Related\n
URL:https://tungsten-training.com/event/aging-and-wellbeing-shaping-new-technologies-to-support-seniors-with-cognitive-impairment
LOCATION:Carefirst Seniors and Community Services Association\, 300 Silver Star Blvd\,\, Scarborough\,\, Ontario\, M1V 0G2\, Canada
END:VEVENT
END:VCALENDAR