BEGIN:VCALENDAR
VERSION:2.0
PRODID:-//TUNGSTEN Training - ECPv4.6.26//NONSGML v1.0//EN
CALSCALE:GREGORIAN
METHOD:PUBLISH
X-WR-CALNAME:TUNGSTEN Training
X-ORIGINAL-URL:https://tungsten-training.com
X-WR-CALDESC:Events for TUNGSTEN Training
BEGIN:VEVENT
DTSTART;VALUE=DATE:20181016
DTEND;VALUE=DATE:20181019
DTSTAMP:20260425T175452
CREATED:20181120T204743Z
LAST-MODIFIED:20181120T204743Z
UID:1311-1539648000-1539907199@tungsten-training.com
SUMMARY:AGE-WELL 2018 AGE-WELL Annual Conference – Innovation in Action
DESCRIPTION:AGE-WELL will be holding its fourth Annual Conference in Vancouver\, BC as a pre-conference event to CAG 2018. All AGE-WELL network investigators\, industry and community partners\, students\, board and committee members\, staff and members of the public are invited to attend. This year’s conference will host new exciting main room sessions\, workshops\, and expanded content showcasing AGE-WELL’s impact across Canada. A preliminary copy of the program is now available on the Conference Website. \nApplications for the Research Presentations at AGE-WELL 2018 will open in Forum in April 2018. Questions about the conference can be directed to Krystle Wiltshire\, AGE-WELL Administrative Coordinator (krystle.wiltshire@uhn.ca) \n\n\n	Related\n
URL:https://tungsten-training.com/event/age-well-2018-age-well-annual-conference-innovation-in-action
LOCATION:Vancouver\, Sheraton Wall Centre\, Vancouver\, Canada
END:VEVENT
END:VCALENDAR